BEGIN:VCALENDAR
VERSION:2.0
PRODID:icalendar-ruby
CALSCALE:GREGORIAN
METHOD:PUBLISH
BEGIN:VEVENT
DTSTAMP:20260425T101854Z
UID:18-310609@whitneyumc.org
DTSTART:20261101T170000Z
DTEND:20261102T060000Z
CLASS:PUBLIC
CREATED:20260424T205033
DESCRIPTION:
LAST-MODIFIED:20260424T205033
LOCATION:
SUMMARY:Sunday Worship
URL;VALUE=URI:https://whitneyumc.org/events/sunday-worship--18/2026-11-01
END:VEVENT
END:VCALENDAR
