BEGIN:VCALENDAR
VERSION:2.0
PRODID:icalendar-ruby
CALSCALE:GREGORIAN
METHOD:PUBLISH
BEGIN:VEVENT
DTSTAMP:20260423T071433Z
UID:18-308591@whitneyumc.org
DTSTART:20261018T160000Z
DTEND:20261019T050000Z
CLASS:PUBLIC
CREATED:20260422T211656
DESCRIPTION:
LAST-MODIFIED:20260422T211656
LOCATION:
SUMMARY:Sunday Worship
URL;VALUE=URI:https://whitneyumc.org/events/sunday-worship--18/2026-10-18
END:VEVENT
END:VCALENDAR
