BEGIN:VCALENDAR
VERSION:2.0
PRODID:icalendar-ruby
CALSCALE:GREGORIAN
METHOD:PUBLISH
BEGIN:VEVENT
DTSTAMP:20260423T054004Z
UID:18-308590@whitneyumc.org
DTSTART:20261011T160000Z
DTEND:20261012T050000Z
CLASS:PUBLIC
CREATED:20260422T211656
DESCRIPTION:
LAST-MODIFIED:20260422T211656
LOCATION:
SUMMARY:Sunday Worship
URL;VALUE=URI:https://whitneyumc.org/events/sunday-worship--18/2026-10-11
END:VEVENT
END:VCALENDAR
